
BEGIN:VCALENDAR
VERSION:2.0
PRODID:-//REMAKING PROJECT - ECPv6.15.12.2//NONSGML v1.0//EN
CALSCALE:GREGORIAN
METHOD:PUBLISH
X-WR-CALNAME:REMAKING PROJECT
X-ORIGINAL-URL:https://remaking-project.eu
X-WR-CALDESC:Events for REMAKING PROJECT
REFRESH-INTERVAL;VALUE=DURATION:PT1H
X-Robots-Tag:noindex
X-PUBLISHED-TTL:PT1H
BEGIN:VTIMEZONE
TZID:Europe/London
BEGIN:DAYLIGHT
TZOFFSETFROM:+0000
TZOFFSETTO:+0100
TZNAME:BST
DTSTART:20230326T010000
END:DAYLIGHT
BEGIN:STANDARD
TZOFFSETFROM:+0100
TZOFFSETTO:+0000
TZNAME:GMT
DTSTART:20231029T010000
END:STANDARD
BEGIN:DAYLIGHT
TZOFFSETFROM:+0000
TZOFFSETTO:+0100
TZNAME:BST
DTSTART:20240331T010000
END:DAYLIGHT
BEGIN:STANDARD
TZOFFSETFROM:+0100
TZOFFSETTO:+0000
TZNAME:GMT
DTSTART:20241027T010000
END:STANDARD
BEGIN:DAYLIGHT
TZOFFSETFROM:+0000
TZOFFSETTO:+0100
TZNAME:BST
DTSTART:20250330T010000
END:DAYLIGHT
BEGIN:STANDARD
TZOFFSETFROM:+0100
TZOFFSETTO:+0000
TZNAME:GMT
DTSTART:20251026T010000
END:STANDARD
END:VTIMEZONE
BEGIN:VEVENT
DTSTART;VALUE=DATE:20240904
DTEND;VALUE=DATE:20240907
DTSTAMP:20260422T143703
CREATED:20250523T090733Z
LAST-MODIFIED:20250523T090820Z
UID:3376-1725408000-1725667199@remaking-project.eu
SUMMARY:XLV Conferenza scientifica AISRe – Città e regioni nell’era digitale. La sfida della transizione verso l’economia circolare
DESCRIPTION:The AISRe Conference\, to be held in Turin from 4 to 6 September 2024\, offers a rich programme with over 500 contributions\, distributed in Organised and Spontaneous Sessions\, Plenary Sessions and Round Tables. \nPresentation: The quality of work during the COVID-19 pandemic in Europe: does the workplace matter? (POLIMI)
URL:https://remaking-project.eu/event/xlv-conferenza-scientifica-aisre-citta-e-regioni-nellera-digitale-la-sfida-della-transizione-verso-leconomia-circolare/
LOCATION:Università degli Studi di Torino\, Torino\, Italy
ATTACH;FMTTYPE=image/png:https://remaking-project.eu/wp-content/uploads/2025/05/AISRe-2024.png
END:VEVENT
END:VCALENDAR