
BEGIN:VCALENDAR
VERSION:2.0
PRODID:-//REMAKING PROJECT - ECPv6.15.12.2//NONSGML v1.0//EN
CALSCALE:GREGORIAN
METHOD:PUBLISH
X-WR-CALNAME:REMAKING PROJECT
X-ORIGINAL-URL:https://remaking-project.eu
X-WR-CALDESC:Events for REMAKING PROJECT
REFRESH-INTERVAL;VALUE=DURATION:PT1H
X-Robots-Tag:noindex
X-PUBLISHED-TTL:PT1H
BEGIN:VTIMEZONE
TZID:Europe/London
BEGIN:DAYLIGHT
TZOFFSETFROM:+0000
TZOFFSETTO:+0100
TZNAME:BST
DTSTART:20230326T010000
END:DAYLIGHT
BEGIN:STANDARD
TZOFFSETFROM:+0100
TZOFFSETTO:+0000
TZNAME:GMT
DTSTART:20231029T010000
END:STANDARD
BEGIN:DAYLIGHT
TZOFFSETFROM:+0000
TZOFFSETTO:+0100
TZNAME:BST
DTSTART:20240331T010000
END:DAYLIGHT
BEGIN:STANDARD
TZOFFSETFROM:+0100
TZOFFSETTO:+0000
TZNAME:GMT
DTSTART:20241027T010000
END:STANDARD
BEGIN:DAYLIGHT
TZOFFSETFROM:+0000
TZOFFSETTO:+0100
TZNAME:BST
DTSTART:20250330T010000
END:DAYLIGHT
BEGIN:STANDARD
TZOFFSETFROM:+0100
TZOFFSETTO:+0000
TZNAME:GMT
DTSTART:20251026T010000
END:STANDARD
BEGIN:DAYLIGHT
TZOFFSETFROM:+0000
TZOFFSETTO:+0100
TZNAME:BST
DTSTART:20260329T010000
END:DAYLIGHT
BEGIN:STANDARD
TZOFFSETFROM:+0100
TZOFFSETTO:+0000
TZNAME:GMT
DTSTART:20261025T010000
END:STANDARD
END:VTIMEZONE
BEGIN:VEVENT
DTSTART;VALUE=DATE:20250910
DTEND;VALUE=DATE:20250913
DTSTAMP:20260422T021029
CREATED:20250905T084136Z
LAST-MODIFIED:20250905T084136Z
UID:3665-1757462400-1757721599@remaking-project.eu
SUMMARY:AISRE XLVI Conferenza scientifica annuale\, 2025
DESCRIPTION:The central theme of the conference will be that of territorial inequalities between regions\, cities\, urban and rural areas\, in an international context characterized by sudden changes and radical transformations. \nREMAKING will have its own special session where members of the project will explain the work being carried out.
URL:https://remaking-project.eu/event/aisre-xlvi-conferenza-scientifica-annuale-2025/
LOCATION:Università “G. d’Annunzio” Chieti-Pescara\, Pescara
ATTACH;FMTTYPE=image/png:https://remaking-project.eu/wp-content/uploads/2025/09/Aisre-2025-e1754650191577.png
END:VEVENT
BEGIN:VEVENT
DTSTART;VALUE=DATE:20250611
DTEND;VALUE=DATE:20250615
DTSTAMP:20260422T021029
CREATED:20250623T080015Z
LAST-MODIFIED:20250623T080015Z
UID:3530-1749600000-1749945599@remaking-project.eu
SUMMARY:XXII Workshop CiMET
DESCRIPTION:The ‘CiMET Workshops’ are annual meetings dedicated to the discussion of papers and research projects on the topics that characterising the activities of the CiMET network of researchers: the dynamics of structural change in the economy and society\, the internationalisation of enterprises and territories\, the dynamics of local development\, industrial policies industrial policies\, interventions in favour of innovation\, research and knowledge\, government practices aimed at to promote economic and social development. \n  \nParticipants: \nREMAKING Europe Horizon Project \nModerator: Ilaria Mariotti \nJob satisfaction of remote workers in Europe\nMarco Biagetti\, Giuseppe Croce\, Ilaria Mariotti\, Federica Maria Rossi\, Sergio Scicchitano \nShould I stay or should I go? Remote workers in the Lombardy region\nLuca Alfieri\, Ilaria Mariotti\, Federica Rossi \nRemote Work\, Spatial Flexibility\, and Inequalities in Mobility: Evidence from Bologna\nGiuseppe Pignataro\, Patrizia Leone \nREmote-working Multiple Impacts in the Age of Disruptions: Socioeconomic Transformations\, Territorial RethinKING\, and Policy Actions: The Current Debate and Some Selected Research Trajectories\nMarco R. Di Tommaso\, Patrizia Leone\, Elena Prodi \nZooming In on Satisfaction: How Does Hybrid Working Shape Life Satisfaction?\nVincenzo Alfano\, Ilaria Mariotti\, Federica Rossi
URL:https://remaking-project.eu/event/xxii-workshop-cimet/
LOCATION:University of Salento\, Lecce\, Italy
ATTACH;FMTTYPE=image/png:https://remaking-project.eu/wp-content/uploads/2025/06/Pantaila-argazkia-2025-06-23-095149.png
END:VEVENT
BEGIN:VEVENT
DTSTART;VALUE=DATE:20250513
DTEND;VALUE=DATE:20250514
DTSTAMP:20260422T021029
CREATED:20250616T120019Z
LAST-MODIFIED:20250616T120019Z
UID:3521-1747094400-1747180799@remaking-project.eu
SUMMARY:The Nordic-Baltic Remote Work Conference
DESCRIPTION:Participants: Dimitris Manoukas and Luca Alfieri (Politecnico di Milano)
URL:https://remaking-project.eu/event/the-nordic-baltic-remote-work-conference/
LOCATION:Põlva County Development Centre\, Põlva County\, Estonia
ATTACH;FMTTYPE=image/png:https://remaking-project.eu/wp-content/uploads/2025/06/Pantaila-argazkia-2025-06-16-135626.png
END:VEVENT
BEGIN:VEVENT
DTSTART;VALUE=DATE:20250227
DTEND;VALUE=DATE:20250228
DTSTAMP:20260422T021029
CREATED:20250527T074145Z
LAST-MODIFIED:20250527T074217Z
UID:3462-1740614400-1740700799@remaking-project.eu
SUMMARY:Stakeholder Workshop Berlin
DESCRIPTION:Stakeholder Workshop: Presentation of the project to local experts in Ukrainian refugees’ labour market integration (IRS)
URL:https://remaking-project.eu/event/stakeholder-workshop-berlin/
LOCATION:Berlin
END:VEVENT
BEGIN:VEVENT
DTSTART;VALUE=DATE:20250130
DTEND;VALUE=DATE:20250201
DTSTAMP:20260422T021029
CREATED:20250523T083255Z
LAST-MODIFIED:20250523T093200Z
UID:3344-1738195200-1738367999@remaking-project.eu
SUMMARY:XXIII SIEPI Annuale Workshop
DESCRIPTION:Participants: Ilaria Mariotti and Federica Rossi (Politecnico di Milano) \nIlaria and Federica will present two papers related to the work carried out in Remaking: on the one hand\, about European home workers’ job satisfaction during the COVID-19 pandemic\, and on the other\, about the influence of flexible working arrangements on the change of residence in the Lombardy region. Further\, the first piece of research will be presented in a session entitled “Labour market and human capital”\, which was chaired by Ilaria Mariotti.
URL:https://remaking-project.eu/event/xxiii-siepi-annuale-workshop/
LOCATION:Bologna
ATTACH;FMTTYPE=image/png:https://remaking-project.eu/wp-content/uploads/2025/05/Pantaila-argazkia-2025-05-23-111318.png
END:VEVENT
BEGIN:VEVENT
DTSTART;VALUE=DATE:20250123
DTEND;VALUE=DATE:20250125
DTSTAMP:20260422T021029
CREATED:20250523T082753Z
LAST-MODIFIED:20250523T091722Z
UID:3340-1737590400-1737763199@remaking-project.eu
SUMMARY:In-betweenness: spatial and temporal perspectives on working and organizing
DESCRIPTION:REMAKING’s consortium members Patrizia Leone\, Ilaria Mariotti\, Elena Prodi\, Dimitris Manoukas and Federica  Rossi will explain the details of the project. \nPresentation of the paper “Exploring life satisfaction during the COVID-19 pandemic in Europe. Did hybrid working play a role?” (Vincenzo Alfano ; Ilaria Mariotti; Federica Rossi) \nThe Scientific Coordinator of REMAKING\, Marco R. Di Tommaso is one of the keynote speakers of the symposium giving a speech to the audience entitled “Industrial territorial development policies: remote working opportunities and challenges”. \nParticipants: Chiara Tagliaro\, Ilaria Mariotti\, Dimitris Manoukas\, Federica Maria Rossi (Politecnico di Milano)\, Marco R. Di Tommaso (Keynote speaker\, University of Bologna)
URL:https://remaking-project.eu/event/in-betweenness-spatial-and-temporal-perspectives-on-working-and-organizing/
LOCATION:Milan\, Italy
ATTACH;FMTTYPE=image/png:https://remaking-project.eu/wp-content/uploads/2025/05/Pantaila-argazkia-2025-05-23-111643.png
END:VEVENT
BEGIN:VEVENT
DTSTART;VALUE=DATE:20241206
DTEND;VALUE=DATE:20241207
DTSTAMP:20260422T021029
CREATED:20250523T084707Z
LAST-MODIFIED:20250523T091930Z
UID:3359-1733443200-1733529599@remaking-project.eu
SUMMARY:TSM Seminar: Luoghi di lavoro e territorio: nuove opportunità e nuove connessioni nel lavoro di oggi e del futuro
DESCRIPTION:Participant: Ilaria Mariotti (Politecnico Di Milano):  ‘L’impatto del lavoro a distanza sul territorio. Quali i punti di forza del territorio trentino?’
URL:https://remaking-project.eu/event/tsm-seminar-luoghi-di-lavoro-e-territorio-nuove-opportunita-e-nuove-connessioni-nel-lavoro-di-oggi-e-del-futuro/
LOCATION:Sala Nones – Palazzo Benvenuti\, Trento\, Italy
ATTACH;FMTTYPE=image/png:https://remaking-project.eu/wp-content/uploads/2025/05/Pantaila-argazkia-2025-05-23-111759.png
END:VEVENT
BEGIN:VEVENT
DTSTART;VALUE=DATE:20241205
DTEND;VALUE=DATE:20241206
DTSTAMP:20260422T021029
CREATED:20250523T091239Z
LAST-MODIFIED:20250523T091239Z
UID:3381-1733356800-1733443199@remaking-project.eu
SUMMARY:Social Innovation National Workshop
DESCRIPTION:The workshop\, to be held on Thursday 5 and Friday 6 December 2024 at the Auditorium of the Department of Economic Sciences of the University of Bologna\, Piazza Scaravilli 2\, Bologna\, is sponsored by the GRINS (Growing Resilient\, Inclusive and Sustainable) Foundation\, with a focus on the research activities of Spoke 8\, coordinated by the University of Catania. \nPresentation: ‘Prospettive e Traiettorie sulla Riorganizzazione Sociale del Lavoro​ (UNIBO)’
URL:https://remaking-project.eu/event/social-innovation-national-workshop/
LOCATION:Bologna
END:VEVENT
BEGIN:VEVENT
DTSTART;VALUE=DATE:20241111
DTEND;VALUE=DATE:20241114
DTSTAMP:20260422T021029
CREATED:20250523T083851Z
LAST-MODIFIED:20250523T092604Z
UID:3355-1731283200-1731542399@remaking-project.eu
SUMMARY:MSCA CORAL-ITN Final conference
DESCRIPTION:The conference marks the end of the CORAL – ITN project whose mission is to understand the role and impact of collaborative workspaces (CWS) in rural and peripheral areas of Europe. During the two day conference\, early stage researchers\, invited speakers from CWS industry and policy making will meet to discuss CWS in relation to global economic trends\, regional development\, communities and individuals from the perspective of various disciplines. The purpose is to focus on the phenomenon of CWS (i.e. coworking spaces\, makerspaces\, fablabs\, creative and innovation hubs etc.) that are located primarily in rural or peripheral and remote areas. Research on this topic is emerging in recent years from numerous disciplines such as regional development and planning\, rural studies\, geography\, business and management\, sociology\, architecture\, design and economics. \n  \n\n‘Navigating the New Normal: Remote Working Policies across Europe’ (Dimitris Manoukas\, Ilaria Mariotti Federica Rossi (Politecnico di Milano))
URL:https://remaking-project.eu/event/msca-coral-itn-final-conference/
LOCATION:Romantso Creative Hub\, Athens\, Greece
ATTACH;FMTTYPE=image/jpeg:https://remaking-project.eu/wp-content/uploads/2025/05/coral_finalconference_Athens_horizontal-1024x578-1.jpg
END:VEVENT
BEGIN:VEVENT
DTSTART;VALUE=DATE:20241107
DTEND;VALUE=DATE:20241108
DTSTAMP:20260422T021029
CREATED:20250523T083611Z
LAST-MODIFIED:20250523T091541Z
UID:3351-1730937600-1731023999@remaking-project.eu
SUMMARY:2024 RSA Winter Conference
DESCRIPTION:The Regional Studies Association Winter Conference 2024 presents a timely opportunity to champion a positive agenda for regional change and development. The event provided an important platform to come together\, to discuss and debate the future of regions and regional studies\, to establish the need and nature of future research imperatives in the field\, and to assess options for practitioners and policymakers in working towards brighter regional futures. \n  \n‘Revived Collaborative Workspaces and the Local Youth: A Spatial Approach to Case Studies from Spain\, Denmark\, and Ireland” (Dimitris Manoukas\, Politecnico Di Milano)
URL:https://remaking-project.eu/event/2024-rsa-winter-conference/
LOCATION:London
ATTACH;FMTTYPE=image/png:https://remaking-project.eu/wp-content/uploads/2025/05/Pantaila-argazkia-2025-05-23-111440.png
END:VEVENT
BEGIN:VEVENT
DTSTART;VALUE=DATE:20241007
DTEND;VALUE=DATE:20241011
DTSTAMP:20260422T021029
CREATED:20250529T084030Z
LAST-MODIFIED:20250529T084030Z
UID:3472-1728259200-1728604799@remaking-project.eu
SUMMARY:22nd  European Week of Regions and Cities Empowering Communities
DESCRIPTION:The European Week of Regions and Cities is an annual four-day event during which cities and regions showcase their capacity to create growth and jobs\, implement European Union cohesion policy\, and prove the importance of the local and regional level for good European governance. \n‘Empowering rural areas through innovation and entrepreneurship’ workshop’ chaired by Ilaria Mariotti (POLIMI)
URL:https://remaking-project.eu/event/22nd-european-week-of-regions-and-cities-empowering-communities/
LOCATION:Brussels\, Belgium
ATTACH;FMTTYPE=image/png:https://remaking-project.eu/wp-content/uploads/2025/05/Pantaila-argazkia-2025-05-29-103911.png
END:VEVENT
BEGIN:VEVENT
DTSTART;VALUE=DATE:20240918
DTEND;VALUE=DATE:20240921
DTSTAMP:20260422T021029
CREATED:20250523T081523Z
LAST-MODIFIED:20250523T092317Z
UID:3334-1726617600-1726876799@remaking-project.eu
SUMMARY:XXI Workshop CiMET
DESCRIPTION:The ‘CiMET Workshops’ are annual meetings dedicated to the discussion of papers and research projects on the topics that characterising the activities of the CiMET network of researchers: the dynamics of structural change in the economy and society\, the internationalisation of enterprises and territories\, the dynamics of local development\, industrial policies industrial policies\, interventions in favour of innovation\, research and knowledge\, government practices aimed at to promote economic and social development. \nParticipants: Marco R. Di Tommaso (UNIBO)\, Elena Prodi (UNIBO)\, Patrizia Leone (UNIBO)\, Laura Vici\, Pierpaolo Pattitoni\, Riccardo Leoncini \nProject’s presentation by Marco R. Di Tommaso\, Elena Prodi\, Ilaria Mariotti\, Patrizia Leone\, Laura Vici\, Pierpaolo Pattitoni\, Riccardo Leoncini \nSpecial session REMAKING project: \n– Remote working: multiple impacts in an age of disruptions. A systematic literature review (Elena Prodi) \n-Navigating the New Normal: An Overview of Remote Working Policies Across Europe (Federica Maria Rossi\, Dimitris Manoukas\, Ilaria Mariotti) \n-Mobility in Times of Remote Working (Patrizia Leone) \n-Territorial Transformations (Ilaria Mariotti\, Federica Maria Rossi\, Dimitris Manoukas)
URL:https://remaking-project.eu/event/xxi-workhop-cimet/
LOCATION:Enna\, Italy
ATTACH;FMTTYPE=image/jpeg:https://remaking-project.eu/wp-content/uploads/2025/05/Copertina-Programma_page-0001-scaled-1.jpg
END:VEVENT
BEGIN:VEVENT
DTSTART;VALUE=DATE:20240904
DTEND;VALUE=DATE:20240907
DTSTAMP:20260422T021029
CREATED:20250523T090733Z
LAST-MODIFIED:20250523T090820Z
UID:3376-1725408000-1725667199@remaking-project.eu
SUMMARY:XLV Conferenza scientifica AISRe – Città e regioni nell’era digitale. La sfida della transizione verso l’economia circolare
DESCRIPTION:The AISRe Conference\, to be held in Turin from 4 to 6 September 2024\, offers a rich programme with over 500 contributions\, distributed in Organised and Spontaneous Sessions\, Plenary Sessions and Round Tables. \nPresentation: The quality of work during the COVID-19 pandemic in Europe: does the workplace matter? (POLIMI)
URL:https://remaking-project.eu/event/xlv-conferenza-scientifica-aisre-citta-e-regioni-nellera-digitale-la-sfida-della-transizione-verso-leconomia-circolare/
LOCATION:Università degli Studi di Torino\, Torino\, Italy
ATTACH;FMTTYPE=image/png:https://remaking-project.eu/wp-content/uploads/2025/05/AISRe-2024.png
END:VEVENT
BEGIN:VEVENT
DTSTART;VALUE=DATE:20240704
DTEND;VALUE=DATE:20240707
DTSTAMP:20260422T021029
CREATED:20250527T074530Z
LAST-MODIFIED:20250527T074734Z
UID:3467-1720051200-1720310399@remaking-project.eu
SUMMARY:40th EGOS Colloquium 2024
DESCRIPTION:The purpose of the 40th EGOS Colloquium 2024 – hosted by the University of Milan-Bicocca – is to investigate what elements represent the crucial crossroads for organizations of the present and the next future. \n-Presentation of research on digitalised worplaces (IRS)
URL:https://remaking-project.eu/event/40th-egos-colloquium-2024/
LOCATION:Milan\, Italy
ATTACH;FMTTYPE=image/png:https://remaking-project.eu/wp-content/uploads/2025/05/Pantaila-argazkia-2025-05-27-094445.png
END:VEVENT
BEGIN:VEVENT
DTSTART;VALUE=DATE:20240516
DTEND;VALUE=DATE:20240517
DTSTAMP:20260422T021029
CREATED:20250523T085432Z
LAST-MODIFIED:20250523T091918Z
UID:3366-1715817600-1715903999@remaking-project.eu
SUMMARY:PRIN Escapes project conference
DESCRIPTION:Presentation:  ‘Spazi ibridi in aree periferiche e rurali come luoghi di benessere e innovazione’ (POLIMI)’
URL:https://remaking-project.eu/event/prin-escapes-project-conference/
LOCATION:Milan\, Italy
END:VEVENT
BEGIN:VEVENT
DTSTART;VALUE=DATE:20240423
DTEND;VALUE=DATE:20240424
DTSTAMP:20260422T021029
CREATED:20250523T085638Z
LAST-MODIFIED:20250523T085814Z
UID:3368-1713830400-1713916799@remaking-project.eu
SUMMARY:CGR & IS-MBS Seminar series 2023-24
DESCRIPTION:Presentation: ‘The surge of remote working and coworking spaces. ​Exploring the case of Italy through mixed methods.’ (POLIMI)
URL:https://remaking-project.eu/event/cgr-is-mbs-seminar-series-2023-24/
LOCATION:Online
END:VEVENT
BEGIN:VEVENT
DTSTART;VALUE=DATE:20240423
DTEND;VALUE=DATE:20240424
DTSTAMP:20260422T021029
CREATED:20250523T085147Z
LAST-MODIFIED:20250523T085147Z
UID:3363-1713830400-1713916799@remaking-project.eu
SUMMARY:Osservatorio smart working POLIMI
DESCRIPTION:The Smart Working Observatory was set up in 2012\, as part of a broader research context that had been studying the evolution of the way we work for more than ten years. \n-Participant: Politecnico Di Milano ‘‘Impatto del lavoro a distanza sul territorio. ​Tre scenari per la città di Milano​’ (POLIMI)’
URL:https://remaking-project.eu/event/osservatorio-smart-working-polimi/
LOCATION:Milan\, Italy
END:VEVENT
BEGIN:VEVENT
DTSTART;VALUE=DATE:20240216
DTEND;VALUE=DATE:20240219
DTSTAMP:20260422T021029
CREATED:20250523T090321Z
LAST-MODIFIED:20250523T090321Z
UID:3371-1708041600-1708300799@remaking-project.eu
SUMMARY:1st Open Air Cities International Conference
DESCRIPTION:The conference aimed to present and disseminate research results related to the Sustainable Development of cities and regions at a global level. \nThe main subject was the presentation of relevant research in the field of Sustainable Development.\nThe conference was organized and structured on the four main pillars of Sustainable Development\, which in fact are also the main pillars of Urban and Regional Development: Environment\, Economy\, Society and Culture. Each of these pillars includes its subcategories\, which are detailed through the thematic sections related to the 17 Global Goals of Sustainable Development.\nThe conference brought together many distinguished researchers of Local and Regional Sustainable Development and Urban Reconstruction from all over the world. Participants found opportunities for presenting new research\, exchanging information\, and discussing current issues. \n  \nPresentation: ‘Coworking and hybrid spaces enhancing local and regional sustainable development (POLIMI)’
URL:https://remaking-project.eu/event/1st-open-air-cities-international-conference/
LOCATION:Athens\, Italy
ATTACH;FMTTYPE=image/png:https://remaking-project.eu/wp-content/uploads/2025/05/Pantaila-argazkia-2025-05-23-110151.png
END:VEVENT
END:VCALENDAR