
BEGIN:VCALENDAR
VERSION:2.0
PRODID:-//REMAKING PROJECT - ECPv6.15.12.2//NONSGML v1.0//EN
CALSCALE:GREGORIAN
METHOD:PUBLISH
X-ORIGINAL-URL:https://remaking-project.eu
X-WR-CALDESC:Events for REMAKING PROJECT
REFRESH-INTERVAL;VALUE=DURATION:PT1H
X-Robots-Tag:noindex
X-PUBLISHED-TTL:PT1H
BEGIN:VTIMEZONE
TZID:Europe/London
BEGIN:DAYLIGHT
TZOFFSETFROM:+0000
TZOFFSETTO:+0100
TZNAME:BST
DTSTART:20250330T010000
END:DAYLIGHT
BEGIN:STANDARD
TZOFFSETFROM:+0100
TZOFFSETTO:+0000
TZNAME:GMT
DTSTART:20251026T010000
END:STANDARD
BEGIN:DAYLIGHT
TZOFFSETFROM:+0000
TZOFFSETTO:+0100
TZNAME:BST
DTSTART:20260329T010000
END:DAYLIGHT
BEGIN:STANDARD
TZOFFSETFROM:+0100
TZOFFSETTO:+0000
TZNAME:GMT
DTSTART:20261025T010000
END:STANDARD
BEGIN:DAYLIGHT
TZOFFSETFROM:+0000
TZOFFSETTO:+0100
TZNAME:BST
DTSTART:20270328T010000
END:DAYLIGHT
BEGIN:STANDARD
TZOFFSETFROM:+0100
TZOFFSETTO:+0000
TZNAME:GMT
DTSTART:20271031T010000
END:STANDARD
END:VTIMEZONE
BEGIN:VEVENT
DTSTART;VALUE=DATE:20260212
DTEND;VALUE=DATE:20260213
DTSTAMP:20260422T225913
CREATED:20260114T114645Z
LAST-MODIFIED:20260216T091927Z
UID:4122-1770854400-1770940799@remaking-project.eu
SUMMARY:REMAKING Workshop
DESCRIPTION:The workshop is dedicated to analysing remote working and the effects of its implementation on people\, organisations and territories. The seminar opens with the presentation of the results of a study on smart working in the Municipality of Milan and continues with a round table discussion involving national and local stakeholders. \nAGENDA
URL:https://remaking-project.eu/event/remaking-workshop/
LOCATION:Aula Consiglio\, Edificio 29\, Politecnico di Milano\,  piazza Leonardo da Vinci\, 26\, Milan\, Italy
ATTACH;FMTTYPE=image/png:https://remaking-project.eu/wp-content/uploads/2026/01/POSTER-12-FEB.png
END:VEVENT
BEGIN:VEVENT
DTSTART;VALUE=DATE:20260330
DTEND;VALUE=DATE:20260331
DTSTAMP:20260422T225913
CREATED:20260331T121113Z
LAST-MODIFIED:20260331T121113Z
UID:4402-1774828800-1774915199@remaking-project.eu
SUMMARY:EIREST seminar at the Sorbonne\, Paris
DESCRIPTION:Karolina Kania\, VSE\, delivered a presentation titled “Digital Displacement: Transnational Remote Work and the Practice of ‘Double Nomadism’ among Ukrainian Displaced Knowledge Workers in Prague”.
URL:https://remaking-project.eu/event/eirest-seminar-at-the-sorbonne-paris/
LOCATION:Paris\, Université Paris 1 Panthéon-Sorbonne\, France
ATTACH;FMTTYPE=image/jpeg:https://remaking-project.eu/wp-content/uploads/2026/03/Jie-LIU-05-scaled.jpeg
END:VEVENT
BEGIN:VEVENT
DTSTART;VALUE=DATE:20260422
DTEND;VALUE=DATE:20260423
DTSTAMP:20260422T225913
CREATED:20260324T133956Z
LAST-MODIFIED:20260324T133956Z
UID:4381-1776816000-1776902399@remaking-project.eu
SUMMARY:Remote Work In Europe: Evidence\, Impacts\, Policy
DESCRIPTION:Organised in collaboration with our sister projects WinWin4WorkLife and R-Map \, several REMAKING members will share insights on how RemoteWork  and the Future Of Work are reshaping companies\, employees\, cities\, and regions across Europe \nHow is Remote Work impacting companies\, employees\, cities\, and regions? In what ways is it reshaping traditional workplaces and our everyday lives? \nREMAKING project speakers: \n-Patrizia Leone (Unibo): Remote work and the rebalancing of metropolitan and inner areas: results from a survey on 6 EU countries \n-Marco R Di. Tommaso (Unibo): Remote work and the rebalancing of metropolitan and inner areas: results from a survey on 6 EU countries \n-Tiago Santos Pereira (CoLABOR): Comparison of findings and discussion \n-Ilaria Mariotti (Politecnico Di Milano): REMAKING policy brief \n-Zilvinas Martinaitis (Visionary Analytics): Remote work in Europe: trends and potential trajectories \n-Suntje Schmidt (The Leibniz Institute for Research on Society and Space (IRS): Diversity of remote workers and their  living and working conditions \n-Giulio Buciuni (Trinity College Dublin): Remote work: local development\, business organization and innovation \nMore information and registration: \nhttps://www.zew.de/en/events-and-professional-training/detail/remote-work-in-europe-evidence-impacts-policy-1/4872?no_cache=1&cHash=aba8b3af71a5973161f85e7cae9f4692
URL:https://remaking-project.eu/event/remote-work-in-europe-evidence-impacts-policy/
LOCATION:ZEW – Leibniz Centre for European Economic Research\, Mannheim\, Germany
ATTACH;FMTTYPE=image/png:https://remaking-project.eu/wp-content/uploads/2026/03/Pantaila-argazkia-2026-03-16-152747.png
END:VEVENT
END:VCALENDAR